BEGIN:VCALENDAR
VERSION:2.0
PRODID:-//jEvents 2.0 for Joomla//EN
CALSCALE:GREGORIAN
METHOD:PUBLISH
BEGIN:VTIMEZONE
TZID:Europe/Lisbon
BEGIN:STANDARD
DTSTART:20261025T010000
RDATE:20270328T020000
TZOFFSETFROM:+0100
TZOFFSETTO:+0000
TZNAME:Europe/Lisbon WET
END:STANDARD
BEGIN:STANDARD
DTSTART:20271031T010000
RDATE:20280326T020000
TZOFFSETFROM:+0100
TZOFFSETTO:+0000
TZNAME:Europe/Lisbon WET
END:STANDARD
BEGIN:STANDARD
DTSTART:20281029T010000
RDATE:20290325T020000
TZOFFSETFROM:+0100
TZOFFSETTO:+0000
TZNAME:Europe/Lisbon WET
END:STANDARD
BEGIN:STANDARD
DTSTART:20291028T010000
RDATE:20300331T020000
TZOFFSETFROM:+0100
TZOFFSETTO:+0000
TZNAME:Europe/Lisbon WET
END:STANDARD
BEGIN:STANDARD
DTSTART:20301027T010000
RDATE:20310330T020000
TZOFFSETFROM:+0100
TZOFFSETTO:+0000
TZNAME:Europe/Lisbon WET
END:STANDARD
BEGIN:STANDARD
DTSTART:20311026T010000
RDATE:20320328T020000
TZOFFSETFROM:+0100
TZOFFSETTO:+0000
TZNAME:Europe/Lisbon WET
END:STANDARD
BEGIN:DAYLIGHT
DTSTART:20260420T000000
RDATE:20261025T010000
TZOFFSETFROM:+0000
TZOFFSETTO:+0100
TZNAME:Europe/Lisbon WEST
END:DAYLIGHT
BEGIN:DAYLIGHT
DTSTART:20270328T020000
RDATE:20271031T010000
TZOFFSETFROM:+0000
TZOFFSETTO:+0100
TZNAME:Europe/Lisbon WEST
END:DAYLIGHT
BEGIN:DAYLIGHT
DTSTART:20280326T020000
RDATE:20281029T010000
TZOFFSETFROM:+0000
TZOFFSETTO:+0100
TZNAME:Europe/Lisbon WEST
END:DAYLIGHT
BEGIN:DAYLIGHT
DTSTART:20290325T020000
RDATE:20291028T010000
TZOFFSETFROM:+0000
TZOFFSETTO:+0100
TZNAME:Europe/Lisbon WEST
END:DAYLIGHT
BEGIN:DAYLIGHT
DTSTART:20300331T020000
RDATE:20301027T010000
TZOFFSETFROM:+0000
TZOFFSETTO:+0100
TZNAME:Europe/Lisbon WEST
END:DAYLIGHT
BEGIN:DAYLIGHT
DTSTART:20310330T020000
RDATE:20311026T010000
TZOFFSETFROM:+0000
TZOFFSETTO:+0100
TZNAME:Europe/Lisbon WEST
END:DAYLIGHT
END:VTIMEZONE
BEGIN:VEVENT
UID:e26a096ac382feb26a023927bf365d4e
CATEGORIES:Internacionais
CREATED:20260406T233132
SUMMARY:15th Congress of the European Pain Federation EFIC 
LOCATION:Glasgow - Escócia
DESCRIPTION;ENCODING=QUOTED-PRINTABLE:\n\n| 15th Congress of the European Pain Federation EFIC – “Building Bridge
 s in Pain: Thriving Through Communication”\n\n\nLocal e Data: Glasgow, 21 a
  23 de abril 2027\n\n\nInscrições e Programa: https://europeanpainfederatio
 n.eu/efic2027/\n\n\nO 15.º Congresso EFIC terá lugar de 21 a 23 de abril de
  2027, em Glasgow, Escócia, sob o tema “Building Bridges in Pain: Thriving 
 Through Communication” (“Construir Pontes na Dor: Prosperar através da Comu
 nicação”).\n\n\nEsta é uma excelente oportunidade para a comunidade europei
 a dedicada ao tratamento da dor se reunir, partilhar conhecimentos e descob
 rir os mais recentes avanços nesta área. Enquanto capítulos da EFIC, o voss
 o apoio na divulgação das nossas iniciativas é fundamental e profundamente 
 valorizado, contribuindo para ampliar o seu impacto e sucesso em toda a Eur
 opa.\n\n\n#EFIC2027 é: \n\n - Ciência de vanguarda: participe em debates so
 bre a mais recente investigação e abordagens terapêuticas na área da dor e 
 das suas comorbilidades.\n - Abordagem multidisciplinar: o #EFIC2027 promov
 e a ligação entre profissionais de diferentes áreas, desde clínicos e inves
 tigadores a decisores políticos.\n - Oportunidades de networking: interaja 
 com líderes internacionais na ciência da dor e fomente colaborações que imp
 ulsionam o desenvolvimento da área.\n\n&nbsp;\n\n\n+ info em: https://europ
 eanpainfederation.eu/efic2027/\n
DTSTAMP:20260425T133918Z
DTSTART;TZID=Europe/Lisbon;VALUE=DATE:20270421
DTEND;TZID=Europe/Lisbon;VALUE=DATE:20270424
SEQUENCE:0
TRANSP:OPAQUE
END:VEVENT
END:VCALENDAR